BEGIN:VCALENDAR
VERSION:2.0
PRODID:-//UM//UM*Events//EN
CALSCALE:GREGORIAN
BEGIN:VTIMEZONE
TZID:America/Detroit
TZURL:http://tzurl.org/zoneinfo/America/Detroit
X-LIC-LOCATION:America/Detroit
BEGIN:DAYLIGHT
TZOFFSETFROM:-0500
TZOFFSETTO:-0400
TZNAME:EDT
DTSTART:20070311T020000
RRULE:FREQ=YEARLY;BYMONTH=3;BYDAY=2SU
END:DAYLIGHT
BEGIN:STANDARD
TZOFFSETFROM:-0400
TZOFFSETTO:-0500
TZNAME:EST
DTSTART:20071104T020000
RRULE:FREQ=YEARLY;BYMONTH=11;BYDAY=1SU
END:STANDARD
END:VTIMEZONE
BEGIN:VEVENT
DTSTAMP:20250414T162029
DTSTART;TZID=America/Detroit:20250414T170000
DTEND;TZID=America/Detroit:20250414T183000
SUMMARY:Workshop / Seminar:Student Advisory Board Meeting
DESCRIPTION:
UID:131958-21869886@events.umich.edu
URL:https://events.umich.edu/event/131958
CLASS:PUBLIC
STATUS:CONFIRMED
CATEGORIES:Sessions
LOCATION:Duderstadt 1180
CONTACT:
END:VEVENT
BEGIN:VEVENT
DTSTAMP:20250414T172025
DTSTART;TZID=America/Detroit:20250414T173000
DTEND;TZID=America/Detroit:20250414T190000
SUMMARY:Workshop / Seminar:Summer 2025: Pre Departure Orientation
DESCRIPTION:PDO for summer 2025
UID:133710-21873444@events.umich.edu
URL:https://events.umich.edu/event/133710
CLASS:PUBLIC
STATUS:CONFIRMED
CATEGORIES:Sessions
LOCATION:Dude 1120 A
CONTACT:
END:VEVENT
BEGIN:VEVENT
DTSTAMP:20250218T135110
DTSTART;TZID=America/Detroit:20250414T180000
DTEND;TZID=America/Detroit:20250414T193000
SUMMARY:Lecture / Discussion:Exploring the Mind - What Children Can Teach Us About the Human Mind
DESCRIPTION:How do young children make sense of the world? Are they limited to what they see\, or can they think beyond the here and now? This talk will discuss how children's reasoning about hidden\, invisible\, and abstract entities provides a unique and valuable window into the human mind. Indeed\, our early capacity to look beyond the obvious underlies humanity's greatest strengths\, such as our search for knowledge and meaning\, as well as our gravest challenges\, such as prejudice and social inequities.\n\nAbout the speaker: Susan Gelman is the Heinz Werner Distinguished University Professor of Psychology and Linguistics at the University of Michigan. She received her B.A. in Psychology and Classical Greek from Oberlin College and her Ph.D. from Stanford University. She is a developmental psychologist whose research focuses on children's concepts and language development.\n\nNote that this talk is free and open to the public and will take place at the Ann Arbor District Library's Downtown Branch.
UID:132876-21871996@events.umich.edu
URL:https://events.umich.edu/event/132876
CLASS:PUBLIC
STATUS:CONFIRMED
CATEGORIES:Psychology Departmental,Psychology,Language
LOCATION:Off Campus Location
CONTACT:
END:VEVENT
BEGIN:VEVENT
DTSTAMP:20250313T205143
DTSTART;TZID=America/Detroit:20250414T180000
SUMMARY:Performance:Sugarcane Screening and Discussion
DESCRIPTION:Join us for a screening of the OSCAR® nominated documentary SUGARCANE followed by a Q&A with filmmakers Julian Brave NoiseCat and Emily Kassie.\n\nSUGARCANE follows an investigation into the abuse and missing children at St. Joseph’s Mission near Williams Lake\, British Columbia\, a Catholic-run Indigenous boarding school that operated until 1981. SUGARCANE illuminates the beauty of a community breaking cycles of intergenerational trauma and finding the strength to persevere.\n\nAbout the speakers\n\nJulian Brave NoiseCat is a writer\, Oscar® nominated filmmaker and student of Salish art and history.\nEmily Kassie is an Oscar® nominated filmmaker and investigative journalist.
UID:133791-21873567@events.umich.edu
URL:https://events.umich.edu/event/133791
CLASS:PUBLIC
STATUS:CONFIRMED
CATEGORIES:Mutotix,Theater
LOCATION:GA -Michigan Theater
CONTACT:
END:VEVENT
BEGIN:VEVENT
DTSTAMP:20250313T111311
DTSTART;TZID=America/Detroit:20250414T180000
DTEND;TZID=America/Detroit:20250414T203000
SUMMARY:Film Screening:SUGARCANE screening and Q&A
DESCRIPTION:Join us for a screening of the OSCAR® nominated documentary SUGARCANE followed by a Q&A with filmmakers Julian Brave NoiseCat and Emily Kassie.\n\nAbout SUGARCANE\nSUGARCANE follows an investigation into the abuse and missing children at St. Joseph’s Mission near Williams Lake\, British Columbia\, a Catholic-run Indigenous boarding school that operated until 1981. SUGARCANE illuminates the beauty of a community breaking cycles of intergenerational trauma and finding the strength to persevere.\n\nAbout the speakers\nJulian Brave NoiseCat is a writer\, Oscar® nominated filmmaker and student of Salish art and history.\n\nEmily Kassie is an Oscar® nominated filmmaker and investigative journalist.
UID:133821-21873596@events.umich.edu
URL:https://events.umich.edu/event/133821
CLASS:PUBLIC
STATUS:CONFIRMED
CATEGORIES:In Person,history,Free,ford school of public policy,Film,Center For Racial Justice,Anti-racism,american culture,Storytelling,social justice,Racial Justice,Native American Studies
LOCATION:Off Campus Location
CONTACT:
END:VEVENT
BEGIN:VEVENT
DTSTAMP:20250305T120014
DTSTART;TZID=America/Detroit:20250414T180000
DTEND;TZID=America/Detroit:20250414T210000
SUMMARY:Other:Zouk Dance Lesson
DESCRIPTION:Hi zoukinis! I'm excited to announce that our lessons are back!Zouk is a Brazilian social partner dance. Our beginner's lesson starts at 6pm and our improvers lesson is at 7pm. Afterward\, we have an hour of practica! Our lessons are completely free!All are welcome to all our lessons\, no dance experience or partner required!We will be in Room 1436 at Mason Hall (second floor). \nI hope to see you all there!
UID:130420-21866004@events.umich.edu
URL:https://events.umich.edu/event/130420
CLASS:PUBLIC
STATUS:CONFIRMED
CATEGORIES:
LOCATION:Mason Hall
CONTACT:
END:VEVENT
END:VCALENDAR