BEGIN:VCALENDAR
VERSION:2.0
PRODID:-//UM//UM*Events//EN
CALSCALE:GREGORIAN
BEGIN:VTIMEZONE
TZID:America/Detroit
TZURL:http://tzurl.org/zoneinfo/America/Detroit
X-LIC-LOCATION:America/Detroit
BEGIN:DAYLIGHT
TZOFFSETFROM:-0500
TZOFFSETTO:-0400
TZNAME:EDT
DTSTART:20070311T020000
RRULE:FREQ=YEARLY;BYMONTH=3;BYDAY=2SU
END:DAYLIGHT
BEGIN:STANDARD
TZOFFSETFROM:-0400
TZOFFSETTO:-0500
TZNAME:EST
DTSTART:20071104T020000
RRULE:FREQ=YEARLY;BYMONTH=11;BYDAY=1SU
END:STANDARD
END:VTIMEZONE
BEGIN:VEVENT
DTSTAMP:20250326T162347
DTSTART;TZID=America/Detroit:20250414T190000
DTEND;TZID=America/Detroit:20250414T203000
SUMMARY:Lecture / Discussion:Rapture Ready: The Rapture in the American Imagination
DESCRIPTION:Dreams of being airborne\, leaving this sinful world and all its sinners behind in a cloud of chaos\, is the ultimate end-time fantasy. The story is steadfastly held by pre-millennialist\, evangelical Christians who read the concept of the Rapture into biblical prophecy about the future of the living\, and the dead. The Rapture is prime material for popular mythmaking\, and Pippin will trace some of the occurrences in popular culture\, and how a Rapture theology plays out in contemporary politics. (Tina Pippin is the Wallace M. Alston Professor of Bible and Religion at Agnes Scott College in Decatur\, GA.) Register for this online Zoom Webinar at tinyurl.com/TPippin
UID:134408-21874322@events.umich.edu
URL:https://events.umich.edu/event/134408
CLASS:PUBLIC
STATUS:CONFIRMED
CATEGORIES:Culture,Christianity
LOCATION:Off Campus Location
CONTACT:
END:VEVENT
BEGIN:VEVENT
DTSTAMP:20250410T102934
DTSTART;TZID=America/Detroit:20250414T190000
DTEND;TZID=America/Detroit:20250414T210000
SUMMARY:Performance:RC Chamber Music - End of Term Performance
DESCRIPTION:Join us in the Keene Theater for a delightful evening showcasing the the Residential College Chamber Music class! Student musicians have delved into the collaborative art of chamber music\, exploring repertoire for small ensembles and refining their skills in ensemble playing.\n\nCome celebrate chamber music and experience the beauty of musicians creating harmony together!
UID:131227-21868000@events.umich.edu
URL:https://events.umich.edu/event/131227
CLASS:PUBLIC
STATUS:CONFIRMED
CATEGORIES:Culture,Music,Undergraduate Students
LOCATION:East Quadrangle - Keene Theater
CONTACT:
END:VEVENT
BEGIN:VEVENT
DTSTAMP:20240611T181722
DTSTART;TZID=America/Detroit:20250414T191500
DTEND;TZID=America/Detroit:20250414T194500
SUMMARY:Lecture / Discussion:Pre-Concert Lecture: Symphony Band
DESCRIPTION:This lecture begins at 7:15 pm before the 8:00 pm Symphony Band performance.
UID:122696-21849542@events.umich.edu
URL:https://events.umich.edu/event/122696
CLASS:PUBLIC
STATUS:CONFIRMED
CATEGORIES:Free,Lecture,Music,Talk,Concert
LOCATION:Hill Auditorium - Lower Level Lobby
CONTACT:
END:VEVENT
BEGIN:VEVENT
DTSTAMP:20250408T181638
DTSTART;TZID=America/Detroit:20250414T193000
DTEND;TZID=America/Detroit:20250414T210000
SUMMARY:Lecture / Discussion:Rong Sui\, piano
DESCRIPTION:Graduate student Rong Sui presents a lecture recital.
UID:134112-21873872@events.umich.edu
URL:https://events.umich.edu/event/134112
CLASS:PUBLIC
STATUS:CONFIRMED
CATEGORIES:Music,North Campus,Free
LOCATION:Earl V. Moore Building - Britton Recital Hall
CONTACT:
END:VEVENT
BEGIN:VEVENT
DTSTAMP:20250408T145940
DTSTART;TZID=America/Detroit:20250414T200000
DTEND;TZID=America/Detroit:20250414T210000
SUMMARY:Performance:Blue Bop Jazz Orchestra Spring Concert
DESCRIPTION:Take a night off preparing for finals and join us on April 14th\, 8:00pm at the Michigan League Ballroom for a night of live jazz.
UID:134802-21875258@events.umich.edu
URL:https://events.umich.edu/event/134802
CLASS:PUBLIC
STATUS:CONFIRMED
CATEGORIES:Well-being,UAC,Student Org,Music,Free,Concert,Art
LOCATION:Michigan League - Michigan League Ballroom
CONTACT:
END:VEVENT
BEGIN:VEVENT
DTSTAMP:20250414T181611
DTSTART;TZID=America/Detroit:20250414T200000
DTEND;TZID=America/Detroit:20250414T213000
SUMMARY:Performance:Ian Aegerter\, violin
DESCRIPTION:Graduate student Ian Aegerter performs a master's degree recital.
UID:134113-21873873@events.umich.edu
URL:https://events.umich.edu/event/134113
CLASS:PUBLIC
STATUS:CONFIRMED
CATEGORIES:North Campus,Music,Free
LOCATION:Walgreen Drama Center - Stamps Auditorium
CONTACT:
END:VEVENT
END:VCALENDAR