BEGIN:VCALENDAR
VERSION:2.0
PRODID:-//UM//UM*Events//EN
CALSCALE:GREGORIAN
BEGIN:VTIMEZONE
TZID:America/Detroit
TZURL:http://tzurl.org/zoneinfo/America/Detroit
X-LIC-LOCATION:America/Detroit
BEGIN:DAYLIGHT
TZOFFSETFROM:-0500
TZOFFSETTO:-0400
TZNAME:EDT
DTSTART:20070311T020000
RRULE:FREQ=YEARLY;BYMONTH=3;BYDAY=2SU
END:DAYLIGHT
BEGIN:STANDARD
TZOFFSETFROM:-0400
TZOFFSETTO:-0500
TZNAME:EST
DTSTART:20071104T020000
RRULE:FREQ=YEARLY;BYMONTH=11;BYDAY=1SU
END:STANDARD
END:VTIMEZONE
BEGIN:VEVENT
DTSTAMP:20250410T181626
DTSTART;TZID=America/Detroit:20250414T200000
DTEND;TZID=America/Detroit:20250414T220000
SUMMARY:Performance:Symphony Band
DESCRIPTION:The University of Michigan Symphony Band concludes its spring season with a highly original program of music that features not one\, but two incredible concertos for unique soloists. The first half concludes with a rare concerto for solo cello and winds by Friedrcih Gulda\, showcasing the talents of Concerto Competition winner Serena Zhang\, and the concert finishes with the consortium premiere of a new concerto for saxophone by the inimitable Billy Childs\, and featuring guest saxophonist Steve Wilson. All of the music on this special concert takes its inspiration from the popular music heard all around us\, truly embodying both a musical evolution and revolution of the symphonic stage. \n\nJason Fettig\, conductor\nChristi Blahnik\, student conductor\nSarina Zhang\, cello (Concerto Competition winner)\nSteve Wilson\, saxophone \n\nPROGRAM\nOmar Thomas\, *Mother of a Revolution!*                                                        \nFriedrich Gulda\, Concerto for Cello and Wind Orchestra\nMichael Daugherty\, *Niagara Falls*\nBilly Childs\, Concerto for Saxophone and Piano
UID:122697-21849543@events.umich.edu
URL:https://events.umich.edu/event/122697
CLASS:PUBLIC
STATUS:CONFIRMED
CATEGORIES:Concert,Free,Music
LOCATION:Hill Auditorium
CONTACT:
END:VEVENT
BEGIN:VEVENT
DTSTAMP:20250305T120026
DTSTART;TZID=America/Detroit:20250415T000000
DTEND;TZID=America/Detroit:20250415T140000
SUMMARY:Other:Charleston Race Week
DESCRIPTION:Regatta
UID:132035-21869833@events.umich.edu
URL:https://events.umich.edu/event/132035
CLASS:PUBLIC
STATUS:CONFIRMED
CATEGORIES:
LOCATION:Patriots Point
CONTACT:
END:VEVENT
BEGIN:VEVENT
DTSTAMP:20250305T120025
DTSTART;TZID=America/Detroit:20250415T000000
DTEND;TZID=America/Detroit:20250415T140000
SUMMARY:Other:J70s--April
DESCRIPTION:Regatta
UID:131534-21868730@events.umich.edu
URL:https://events.umich.edu/event/131534
CLASS:PUBLIC
STATUS:CONFIRMED
CATEGORIES:
LOCATION:Coast Guard Academy
CONTACT:
END:VEVENT
BEGIN:VEVENT
DTSTAMP:20250305T120032
DTSTART;TZID=America/Detroit:20250415T000000
DTEND;TZID=America/Detroit:20250415T234500
SUMMARY:Other:Nationals
DESCRIPTION:National Championships at Colby College
UID:133283-21872691@events.umich.edu
URL:https://events.umich.edu/event/133283
CLASS:PUBLIC
STATUS:CONFIRMED
CATEGORIES:
LOCATION:Colby College
CONTACT:
END:VEVENT
BEGIN:VEVENT
DTSTAMP:20250304T115736
DTSTART;TZID=America/Detroit:20250415T000000
DTEND;TZID=America/Detroit:20250415T120000
SUMMARY:Class / Instruction:Summer Session in Epidemiology
DESCRIPTION:Join us for the longest-running summer program in epidemiology! Choose from engaging 1-week or 3-week online courses designed to provide skills-based training in applied epidemiology.\n\nFor 60 years\, the University of Michigan's Summer Session in Epidemiology (SSE) has been one of the nation's longest-running and premier summer epidemiology programs. In just one to three intensive weeks\, gain valuable knowledge and skills to enhance your academic and professional journey. SSE is designed for public health and healthcare professionals\, researchers\, and anyone eager to build a foundation in epidemiologic science. We welcome participants from diverse backgrounds\, including undergraduate students\, public health professionals\, clinical and biomedical researchers\, and scholars in related fields such as psychology\, sociology\, and earth sciences. \n\nWhile experience in public health\, epidemiology\, or biostatistics is beneficial\, it is not required. By the end of our program\, you will have developed a solid understanding of key research principles in clinical populations\, covering areas such as: Study Design\, Biostatistical Analysis\, and Causal Inference These essential skills will help you advance in epidemiology\, public health\, and related fields.
UID:133411-21872924@events.umich.edu
URL:https://events.umich.edu/event/133411
CLASS:PUBLIC
STATUS:CONFIRMED
CATEGORIES:Graduate,Virtual,Graduate and Professional Students,Graduate Students,Postdoctoral Research Fellows,Pre Med,Professional Development,Public Health,Rackham,Research,Staff,Undergraduate,Undergraduate Students,Epidemiology,Education,Dentistry,data,Complex Systems,biostatistics,Alumni
LOCATION:Off Campus Location
CONTACT:
END:VEVENT
BEGIN:VEVENT
DTSTAMP:20250213T133729
DTSTART;TZID=America/Detroit:20250415T070000
DTEND;TZID=America/Detroit:20250415T220000
SUMMARY:Exhibition:Pierpont Poetry Project
DESCRIPTION:Check out the Pierpont Poetry Project! 50 student-written poems are on display throughout Pierpont Commons. The poems were all inspired by the theme “seeking” but interpreted in many different ways - they explore themes of love\, justice\, family\, loss\, hope\, identity\, and more. Explore the building and find all the poems - for every poem you log\, you’ll be entered into a drawing for a Literati Bookstore gift card!
UID:132261-21871746@events.umich.edu
URL:https://events.umich.edu/event/132261
CLASS:PUBLIC
STATUS:CONFIRMED
CATEGORIES:Poetry,Exhibition,Art
LOCATION:Pierpont Commons
CONTACT:
END:VEVENT
END:VCALENDAR