BEGIN:VCALENDAR
VERSION:2.0
PRODID:-//UM//UM*Events//EN
CALSCALE:GREGORIAN
BEGIN:VTIMEZONE
TZID:America/Detroit
TZURL:http://tzurl.org/zoneinfo/America/Detroit
X-LIC-LOCATION:America/Detroit
BEGIN:DAYLIGHT
TZOFFSETFROM:-0500
TZOFFSETTO:-0400
TZNAME:EDT
DTSTART:20070311T020000
RRULE:FREQ=YEARLY;BYMONTH=3;BYDAY=2SU
END:DAYLIGHT
BEGIN:STANDARD
TZOFFSETFROM:-0400
TZOFFSETTO:-0500
TZNAME:EST
DTSTART:20071104T020000
RRULE:FREQ=YEARLY;BYMONTH=11;BYDAY=1SU
END:STANDARD
END:VTIMEZONE
BEGIN:VEVENT
DTSTAMP:20250404T172504
DTSTART;TZID=America/Detroit:20250415T113000
DTEND;TZID=America/Detroit:20250415T130000
SUMMARY:Other:ELO |  General International Pre-Departure Session
DESCRIPTION:General International Pre-Departure Session | Tuesday April 15th\n11:30 am - 1:00 pm | UMSI Engagement Center Great Room 200\n\nThis general pre-departure session is open to all U-M students who are planning to participate in an international experience during the summer of 2025. U-M policies and requirements will be covered along with general guidance from UMSI Global Engagement Program Manager\, Adam Freed.\n\nRegistration link: http://umsi.info/elo-register
UID:134728-21874800@events.umich.edu
URL:https://events.umich.edu/event/134728
CLASS:PUBLIC
STATUS:CONFIRMED
CATEGORIES:Global Engagement,Engaged Learning Office
LOCATION:UMSI Central - Great Room 200
CONTACT:
END:VEVENT
BEGIN:VEVENT
DTSTAMP:20250415T112024
DTSTART;TZID=America/Detroit:20250415T113000
DTEND;TZID=America/Detroit:20250415T130000
SUMMARY:Workshop / Seminar:Teaching Takeaways (EHW)
DESCRIPTION:
UID:134697-21874752@events.umich.edu
URL:https://events.umich.edu/event/134697
CLASS:PUBLIC
STATUS:CONFIRMED
CATEGORIES:Sessions
LOCATION:Angell Hall 3241
CONTACT:
END:VEVENT
BEGIN:VEVENT
DTSTAMP:20250421T113230
DTSTART;TZID=America/Detroit:20250415T120000
DTEND;TZID=America/Detroit:20250415T160000
SUMMARY:Exhibition:Bloody Work: Lexington and Concord 1775
DESCRIPTION:The William L. Clements Library is pleased to announce a forthcoming exhibition in recognition of the 250th Anniversary of the military hostilities that began the American Revolutionary War. The Battles of Lexington and Concord are firmly established in American memory as the culmination of a range of governmental\, political\, economic\, and social tensions that amplified in the decade leading up to 1775. In this exhibit\, visitors will have the opportunity to see original historical manuscript letters\, documents\, newspapers\, and artwork that reveal aspects of the bloody work of Empire and individual alike in April 1775.\n\nAmong the items on display will be Commander in Chief of the British Army\, General Thomas Gage's draft orders for the Concord Expedition\, April 18\, 1775\; a bundle of letters collected by former Sons of Liberty supporter Dr. Benjamin Church\, which he secretly turned over to British Army intelligence\; letters by Silas Deane\, John Hancock\, and Rachel Revere\; and much more.\n\nOpen weekdays from 12-4 pm.
UID:134875-21875502@events.umich.edu
URL:https://events.umich.edu/event/134875
CLASS:PUBLIC
STATUS:CONFIRMED
CATEGORIES:Library,libraries,history,Free,Exhibition,Exhibit,Ann Arbor,Americana,american history,american culture
LOCATION:William Clements Library
CONTACT:
END:VEVENT
BEGIN:VEVENT
DTSTAMP:20250114T090621
DTSTART;TZID=America/Detroit:20250415T120000
DTEND;TZID=America/Detroit:20250415T130000
SUMMARY:Workshop / Seminar:Department of Biological Chemistry Seminar Series: From Structures to Binding Curves: Organizing a Bacterial Microcompartment
DESCRIPTION:Please join us for a seminar at 12 noon in 3330 MS I.
UID:131119-21867763@events.umich.edu
URL:https://events.umich.edu/event/131119
CLASS:PUBLIC
STATUS:CONFIRMED
CATEGORIES:biolgical chemistry,Basic Science,biological,biological chemistry,biological science,biology,Biosciences,Life Science
LOCATION:Medical Science Unit I - 3330
CONTACT:
END:VEVENT
BEGIN:VEVENT
DTSTAMP:20250318T113849
DTSTART;TZID=America/Detroit:20250415T120000
DTEND;TZID=America/Detroit:20250415T130000
SUMMARY:Lecture / Discussion:Distinct and Overlapping Roles of Glis in Olfactory Epithelium Development
DESCRIPTION:Dissertation Defense\n\nWe are pleased to announce that Haeyoung Park\, Ph.D. Candidate will present her Dissertation Defense titled \"Distinct and Overlapping Roles of Glis in Olfactory Epithelium Development\,\" on  Tuesday\, April 15\, from 12:00pm - 1:00 p.m.\, Medical Science 2\, 3699 S. Lecture Hall and via live stream: https://umich.zoom.us/j/96930945358 PC CDB\n\nDissertation Committee members:\n- Sunny Wong (Chair)\n- Ben Allen (Advisor)\n- Rachel Zemans\n- Noriaki Ono
UID:134011-21873787@events.umich.edu
URL:https://events.umich.edu/event/134011
CLASS:PUBLIC
STATUS:CONFIRMED
CATEGORIES:Biosciences,Basic Science,Biointerfaces,Biology,Science
LOCATION:Medical Science Research Building 2 - 3699 S. Lecture Hall
CONTACT:
END:VEVENT
BEGIN:VEVENT
DTSTAMP:20250410T142827
DTSTART;TZID=America/Detroit:20250415T120000
DTEND;TZID=America/Detroit:20250415T130000
SUMMARY:Workshop / Seminar:EEB Prelim Seminar Series - A Feeling for the Organism: Understanding Trait Evolution in Polypore Mushrooms
DESCRIPTION:Talk Title:  A Feeling for the Organism: Understanding Trait Evolution in Polypore Mushrooms\n\nSummary: My project proposal broadly investigates macrofungal evolution through a specific focus on sporocarp traits. For this\, I use two different species of wood-inhabiting fungi that produce fruiting bodies having a poroid hymenophore (porous spore producing layer on the underside of the mushroom)\, commonly referred to as polypores. Polypores\, which form a polyphyletic group within Basidiomycota\, are unique in harboring species that produce annual and perennial hardy\, poroid fruiting bodies which can remain exposed to the external environment and maintain functionality for long periods of time. Unlike the fruiting bodies of a majority of macrofungal species\, given the persistence of certain polypore fruiting bodies on their wood-substrate over extended time periods\, species within Polyporaceae are suitable for investigating the evolution of life history traits and adaptation in macrofungi. My PhD project will focus on two established traits- colour polymorphism and longevity\; and will further use population genetics to identify traits that may be important for local adaptation. The first two chapters will be focussing on Trametes versicolor (aka Turkey Tail) which is a highly colour polymorphic\, globally distributed\, hardwood decay fungus found growing on a wide range of hardwood species. Using T. versicolor\, I firstly aim to uncover if colour polymorphism in the species is linked to the wood species it grows on or if it is a heritable trait\; and secondly\, aim to determine whether it has population structuring across its geographic distribution\, and local adaptation to each habitat of occurrence. In my third chapter\, I propose to use Ganoderma applanatum (aka Artist’s conk) which has a perennial fruiting body that remains functional and fertile for several years to investigate senescence and the evolution of this alternate life history strategy.
UID:134872-21875494@events.umich.edu
URL:https://events.umich.edu/event/134872
CLASS:PUBLIC
STATUS:CONFIRMED
CATEGORIES:ecology,developmental biology,Ecology & Biology,Ecology And Evolutionary Biology,eeb,Graduate Students,In Person,Museum - Herbarium,Museum - Zoology,Talk,department of ecology and evolutionary biology,Bsbsigns,Biology
LOCATION:Biological Sciences Building - 1010
CONTACT:
END:VEVENT
END:VCALENDAR