BEGIN:VCALENDAR
VERSION:2.0
PRODID:-//UM//UM*Events//EN
CALSCALE:GREGORIAN
BEGIN:VTIMEZONE
TZID:America/Detroit
TZURL:http://tzurl.org/zoneinfo/America/Detroit
X-LIC-LOCATION:America/Detroit
BEGIN:DAYLIGHT
TZOFFSETFROM:-0500
TZOFFSETTO:-0400
TZNAME:EDT
DTSTART:20070311T020000
RRULE:FREQ=YEARLY;BYMONTH=3;BYDAY=2SU
END:DAYLIGHT
BEGIN:STANDARD
TZOFFSETFROM:-0400
TZOFFSETTO:-0500
TZNAME:EST
DTSTART:20071104T020000
RRULE:FREQ=YEARLY;BYMONTH=11;BYDAY=1SU
END:STANDARD
END:VTIMEZONE
BEGIN:VEVENT
DTSTAMP:20250205T181834
DTSTART;TZID=America/Detroit:20250415T120000
DTEND;TZID=America/Detroit:20250415T123000
SUMMARY:Performance:Jessi Grieser\, carillon
DESCRIPTION:LSA faculty member Jessi Grieser performs on the Charles Baird Carillon\, an instrument of 53 bronze bells located inside the Burton Memorial Tower. The largest bell\, which strikes the hour\, weighs 12 tons\, while the smallest bell\, 4½ octaves above\, weighs just 15 pounds.\n\nThirty-minute recitals are performed on the Charles Baird Carillon at noon every weekday that classes are in session\, followed by visitor Q&A with the carillonist. The bell chamber may be accessed via a combination of elevator and stairs. Take the elevator to the highest floor possible (floor 8)\, and then climb two flights of stairs (39 steps) to the bell chamber (floor 10). Hearing protection earmuffs are provided for visitors. Be prepared to walk on ice and snow in the bell chamber during winter. Built in 1936\, the Charles Baird Carillon is not ADA accessible. Visitors with mobility concerns are invited to visit the Lurie Carillon.
UID:132413-21870897@events.umich.edu
URL:https://events.umich.edu/event/132413
CLASS:PUBLIC
STATUS:CONFIRMED
CATEGORIES:Faculty,Free,Music,Talk
LOCATION:Burton Memorial Tower
CONTACT:
END:VEVENT
BEGIN:VEVENT
DTSTAMP:20250110T165200
DTSTART;TZID=America/Detroit:20250415T120000
DTEND;TZID=America/Detroit:20250415T130000
SUMMARY:Lecture / Discussion:LRCCS Noon Lecture Series | Of Calendars and Cinnabar: The When and What of Dreaming in Late Ming China
DESCRIPTION:Attend in person or via Zoom: https://myumi.ch/W5X1W\n\nThrough the lens of a seventeenth-century Chinese dream encyclopedia among other sources\, Brigid Vance explores the way in which late Ming literati negotiated the relationship between when they dreamed and what tools they could use to understand and transform their dreams.\n   \n   Brigid E. Vance is associate professor of history at Lawrence University. Her research focuses on the intellectual and cultural history of dreams and dream divination in late Ming China. She also has teaching interests in the history of science\, Tokugawa Japan\, material culture\, and the Silk Roads. In addition to her history PhD from Princeton\, Brigid also earned a certificate in Further Education in Analytical Psychology from the CG Jung Institute in Zürich\, Switzerland. She has published on dreams and inclusive pedagogy. Her article on student podcasts won the 2022 American Historical Association William and Edwyna Gilbert award for the best article on teaching history. In 2020\, Brigid was awarded Lawrence University’s Award for Excellent Teaching by an Early Career Faculty Member.\n\nIf there is anything we can do to make this event accessible to you\, please contact us. Please be aware that advance notice is necessary as some accommodations may require more time for the university to arrange.
UID:130940-21867424@events.umich.edu
URL:https://events.umich.edu/event/130940
CLASS:PUBLIC
STATUS:CONFIRMED
CATEGORIES:China,Asian Languages And Cultures,Chinese Studies,chinese history
LOCATION:Weiser Hall - 10th Floor
CONTACT:
END:VEVENT
BEGIN:VEVENT
DTSTAMP:20250228T133358
DTSTART;TZID=America/Detroit:20250415T120000
DTEND;TZID=America/Detroit:20250415T130000
SUMMARY:Workshop / Seminar:MICDE Ph.D. in Scientific Computing Student Seminar
DESCRIPTION:The MICDE PhD Student Seminar Series showcases the research of students in the Ph.D. in Scientific Computing. These events are open to the public\, but we request that all who plan to attend register in advance.\n\nIf you have any questions\, please email micde-phd@umich.edu.
UID:131072-21867692@events.umich.edu
URL:https://events.umich.edu/event/131072
CLASS:PUBLIC
STATUS:CONFIRMED
CATEGORIES:Michigan Engineering,Micde,Mechanical Engineering,Mathematics,high performance computing,Graduate School,Graduate Students,Phd Seminar,Prospective Graduate Students,Rackham,Science,Scientific Computing,seminar,Graduate and Professional Students,Aerospace Engineering,Ai In Science And Engineering,Artificial Intelligence,Chemical Engineering,Civil and Environmental Engineering,College Of Engineering,Computation,Computational Modeling,Graduate,Generative Ai,Engineering,computing,Computational Science
LOCATION:Off Campus Location - 4th floor conference room
CONTACT:
END:VEVENT
BEGIN:VEVENT
DTSTAMP:20250325T093423
DTSTART;TZID=America/Detroit:20250415T120000
DTEND;TZID=America/Detroit:20250415T130000
SUMMARY:Livestream / Virtual:Rethinking Procrastination: How High Achievers Get Unstuck
DESCRIPTION:Everyone procrastinates. Yet\, when you’re accustomed to accomplishing your goals\, feeling stuck in your career or personal life can feel even more frustrating. Beating yourself up or avoiding the situation can make things worse. Moreover\, conventional advice doesn’t always help the smart and caring. Depending on how you’re stuck\, you need different tactics.\n\nHaving worked with hundreds of high achievers\, research scientist-turned-life coach Dr. Stacy Kim shares common pitfalls that talented individuals need to avoid and how to rethink roadblocks. Walk away with practical strategies and easy tweaks to help you move forward in finding more rewarding and meaningful work and deepening important relationships.
UID:133681-21873399@events.umich.edu
URL:https://events.umich.edu/event/133681
CLASS:PUBLIC
STATUS:CONFIRMED
CATEGORIES:Virtual,Alumni,Professional Development,Free,Career
LOCATION:Off Campus Location
CONTACT:
END:VEVENT
BEGIN:VEVENT
DTSTAMP:20250318T121801
DTSTART;TZID=America/Detroit:20250415T120000
DTEND;TZID=America/Detroit:20250415T140000
SUMMARY:Workshop / Seminar:Understanding Spiritual Wellness
DESCRIPTION:This session will offer an understanding of spirituality and how to screen for spiritual wellness/spiritual distress in individuals as well as in communities. Discuss common misunderstandings around spiritual care and its role in a public university setting. Obtain resources for supporting individuals and communities to promote spiritual wellbeing.
UID:134017-21873793@events.umich.edu
URL:https://events.umich.edu/event/134017
CLASS:PUBLIC
STATUS:CONFIRMED
CATEGORIES:Religious,Student Affairs,Support,Undergraduate Students,Wellness
LOCATION:Michigan League - Michigan Room
CONTACT:
END:VEVENT
BEGIN:VEVENT
DTSTAMP:20250402T121506
DTSTART;TZID=America/Detroit:20250415T120000
DTEND;TZID=America/Detroit:20250415T170000
SUMMARY:Exhibition:Warped Routes: 2025 MFA First Year Exhibition
DESCRIPTION:This annual celebration of the work of Stamps MFA in Art candidates features work by first-year students:\nMichelle CieloszczykMike MartinRiver BerryMichael King\, Jr.Fiona HofferZoë Dong\nThe 2025 MFA First Year Exhibition takes place March 28 - April 19 at the Stamps Graduate/Faculty Studios\, 1919 Green Rd\, Ann Arbor\, MI 48109.\nJoin us at the public exhibition reception on Friday\, March 28 from 6-8pm (no RSVP required).\nViewings March 29-April 19 are available by appointment only\; please contact Michael King\, Jr. to arrange a visit.
UID:134133-21873918@events.umich.edu
URL:https://events.umich.edu/event/134133
CLASS:PUBLIC
STATUS:CONFIRMED
CATEGORIES:Art
LOCATION:Off Campus Location
CONTACT:
END:VEVENT
END:VCALENDAR