BEGIN:VCALENDAR
VERSION:2.0
PRODID:-//UM//UM*Events//EN
CALSCALE:GREGORIAN
BEGIN:VTIMEZONE
TZID:America/Detroit
TZURL:http://tzurl.org/zoneinfo/America/Detroit
X-LIC-LOCATION:America/Detroit
BEGIN:DAYLIGHT
TZOFFSETFROM:-0500
TZOFFSETTO:-0400
TZNAME:EDT
DTSTART:20070311T020000
RRULE:FREQ=YEARLY;BYMONTH=3;BYDAY=2SU
END:DAYLIGHT
BEGIN:STANDARD
TZOFFSETFROM:-0400
TZOFFSETTO:-0500
TZNAME:EST
DTSTART:20071104T020000
RRULE:FREQ=YEARLY;BYMONTH=11;BYDAY=1SU
END:STANDARD
END:VTIMEZONE
BEGIN:VEVENT
DTSTAMP:20250409T104258
DTSTART;TZID=America/Detroit:20250415T170000
DTEND;TZID=America/Detroit:20250415T200000
SUMMARY:Exhibition:Take Care: Student Art Exhibition
DESCRIPTION:Experience the 2025 Take Care Student Art Exhibition\, a heartfelt showcase of creativity\, resilience\, and healing.\n\nThrough visual art\, video\, performance\, and literary works\, students will share their unique perspectives on caring for oneself and others\, healing as a community\, and imagining a world where self-expression nurtures collective well-being.\n\nRiverbank Arts: January 10–February 14\nClosing Reception: February 14\, 6–9 p.m.\n\nDuderstadt Center Gallery: April 15–May 9\nOpening Reception: April 15\, 5–8 p.m.
UID:130900-21867263@events.umich.edu
URL:https://events.umich.edu/event/130900
CLASS:PUBLIC
STATUS:CONFIRMED
CATEGORIES:Arts Initiative,Exhibition,Reception,Take Care,Well-being,Art
LOCATION:Duderstadt Center
CONTACT:
END:VEVENT
BEGIN:VEVENT
DTSTAMP:20250402T181652
DTSTART;TZID=America/Detroit:20250415T170000
DTEND;TZID=America/Detroit:20250415T183000
SUMMARY:Performance:University of Michigan Euphonium-Tuba Ensemble
DESCRIPTION:The U-M Euphonium & Tuba Ensemble\, featuring students from the studio of Professor David Zerkel\, performs a recital.
UID:134631-21874638@events.umich.edu
URL:https://events.umich.edu/event/134631
CLASS:PUBLIC
STATUS:CONFIRMED
CATEGORIES:Free,Music,North Campus
LOCATION:Walgreen Drama Center - Stamps Auditorium
CONTACT:
END:VEVENT
BEGIN:VEVENT
DTSTAMP:20250327T105559
DTSTART;TZID=America/Detroit:20250415T173000
DTEND;TZID=America/Detroit:20250415T183000
SUMMARY:Presentation:Campus Policy Tour on Medicare
DESCRIPTION:Are you interested in public policy? Are you pre-med and interested in learning about how policy might impact your career? Then join us for a free policy talk on Medicare presented by Free the Facts. Free the Facts is a non-partisan\, non-profit organization\, intending to educate young-adult Americans with credible\, non-partisan information on current policy. Free the Facts is visiting our campus to have policy expert Thomas Fodor present on Medicare policy and how it will impact college students post-grad. If you are interested in expanding your knowledge in public policy and getting involved with Free the Facts campus ambassadors\, then join us Tuesday\, April 15th for the Medicare policy tour and free dinner catered from Chipotle.
UID:134424-21874342@events.umich.edu
URL:https://events.umich.edu/event/134424
CLASS:PUBLIC
STATUS:CONFIRMED
CATEGORIES:Education,Food,Free,Leadership,Networking,Pre Med,Public Policy,Student Org
LOCATION:Ross School of Business - 2210
CONTACT:
END:VEVENT
BEGIN:VEVENT
DTSTAMP:20250408T092802
DTSTART;TZID=America/Detroit:20250415T173000
DTEND;TZID=America/Detroit:20250415T190000
SUMMARY:Lecture / Discussion:loG(M) Poster Presentation
DESCRIPTION:loG(M) will present a poster session Tuesday\, April 15th\, in the East Hall lower atrium from 5:30 to 7:00 pm.
UID:134777-21875095@events.umich.edu
URL:https://events.umich.edu/event/134777
CLASS:PUBLIC
STATUS:CONFIRMED
CATEGORIES:Talk,Research,Mathematics,Free
LOCATION:East Hall - Lower Atrium
CONTACT:
END:VEVENT
BEGIN:VEVENT
DTSTAMP:20250210T143419
DTSTART;TZID=America/Detroit:20250415T173000
DTEND;TZID=America/Detroit:20250415T190000
SUMMARY:Workshop / Seminar:Mindful Movement: Workshop for Adults
DESCRIPTION:Today’s world is fast-paced\, with pressures to always be on the go and up-to-date\, which can be exhausting\, overwhelming\, and lead to feeling out of balance with our own mind-body connection. Once we feel off-balance\, it can be hard to find your way back to being in alignment.\n\nThe Psychological Clinic is offering a new 8-week virtual workshop with the goal of helping people re-establish their mind-body connection and learn to manage difficult feelings and situations through the daily cultivation and practice of mindful movement.\n\nThe group will start on on March 11\, 2025 and include psychoeducation\, group discussions\, and experiential exercises.\n\nMultiple strategies will be utilized\, such as mindfulness\, diaphragmatic breathing\, yoga\, and dance movement. Activities will occur during group to help build these skills\, and tasks to practice at home between group sessions will be also provided.\n\nWorkshop Details\n+ Who is this for: Individuals 18+ that would benefit from enhancing mindful movement skills. This includes adults who may already have a mindfulness practice\, and/or those who struggle with anxiety\, depression\, and being grounded in the present moment.\n+ When: 5:30-7 p.m. on Tuesdays\, beginning on March 11.\n+ How long: Each weekly session lasts 90 minutes\, for 8 weeks.\n+ Where: Virtually\, on Zoom.\n+ How to Register: Each participant must complete a 30-minute screening appointment to ensure the group is a good fit for their needs. Contact the MARI Call Center at (734) 615-7853 or complete our secure\, online registration form to get started. \n+ Cost: Each weekly session is billed at $45\, plus a one-time cost for the screening session ($20).
UID:132593-21871328@events.umich.edu
URL:https://events.umich.edu/event/132593
CLASS:PUBLIC
STATUS:CONFIRMED
CATEGORIES:mental health,Faculty,Graduate Students,Workshop,Mindfulness,Staff,Undergraduate,Undergraduate Students,Virtual,Well-being
LOCATION:Off Campus Location
CONTACT:
END:VEVENT
BEGIN:VEVENT
DTSTAMP:20250415T172026
DTSTART;TZID=America/Detroit:20250415T173000
DTEND;TZID=America/Detroit:20250415T190000
SUMMARY:Workshop / Seminar:MSI Connect: Spring Into Zumba
DESCRIPTION:Take a break\, get moving\, and connect with fellow students at a Zumba session hosted by the Rackham MSI Connect Team.\nJoin us on Tuesday\, April 15 at 5:30 PM in the Rackham Common Room (lower level\, west side of the building).\nNo experience needed — just come ready to move\, sweat a little\, and enjoy some good energy as we ease into spring.
UID:134766-21874980@events.umich.edu
URL:https://events.umich.edu/event/134766
CLASS:PUBLIC
STATUS:CONFIRMED
CATEGORIES:Sessions
LOCATION:Rackham Common Room (Lower Level)
CONTACT:
END:VEVENT
END:VCALENDAR